BEGIN:VCALENDAR
VERSION:2.0
PRODID:-//Fête du Vin Nouveau Cressier - ECPv6.15.19//NONSGML v1.0//EN
CALSCALE:GREGORIAN
METHOD:PUBLISH
X-WR-CALNAME:Fête du Vin Nouveau Cressier
X-ORIGINAL-URL:https://feteduvin.ch
X-WR-CALDESC:Évènements pour Fête du Vin Nouveau Cressier
REFRESH-INTERVAL;VALUE=DURATION:PT1H
X-Robots-Tag:noindex
X-PUBLISHED-TTL:PT1H
BEGIN:VTIMEZONE
TZID:UTC
BEGIN:STANDARD
TZOFFSETFROM:+0000
TZOFFSETTO:+0000
TZNAME:UTC
DTSTART:20240101T000000
END:STANDARD
END:VTIMEZONE
BEGIN:VEVENT
DTSTART;TZID=UTC:20250502T193000
DTEND;TZID=UTC:20250502T220000
DTSTAMP:20260421T003308
CREATED:20250206T071439Z
LAST-MODIFIED:20250319T070750Z
UID:214-1746214200-1746223200@feteduvin.ch
SUMMARY:Concours de dégustation
DESCRIPTION:Concours de dégustation au Caveau de l’Entre-deux-lacs
URL:https://feteduvin.ch/event/concours-de-degustation/
END:VEVENT
END:VCALENDAR