BEGIN:VCALENDAR
VERSION:2.0
PRODID:-//Fête du Vin Nouveau Cressier - ECPv6.15.19//NONSGML v1.0//EN
CALSCALE:GREGORIAN
METHOD:PUBLISH
X-WR-CALNAME:Fête du Vin Nouveau Cressier
X-ORIGINAL-URL:https://feteduvin.ch
X-WR-CALDESC:Évènements pour Fête du Vin Nouveau Cressier
REFRESH-INTERVAL;VALUE=DURATION:PT1H
X-Robots-Tag:noindex
X-PUBLISHED-TTL:PT1H
BEGIN:VTIMEZONE
TZID:UTC
BEGIN:STANDARD
TZOFFSETFROM:+0000
TZOFFSETTO:+0000
TZNAME:UTC
DTSTART:20250101T000000
END:STANDARD
END:VTIMEZONE
BEGIN:VEVENT
DTSTART;TZID=UTC:20260501T150000
DTEND;TZID=UTC:20260501T160000
DTSTAMP:20260425T155057
CREATED:20260423T132621Z
LAST-MODIFIED:20260423T132621Z
UID:2313-1777647600-1777651200@feteduvin.ch
SUMMARY:Junior Tshaka et Band sur la Grande Scène
DESCRIPTION:
URL:https://feteduvin.ch/event/junior-tshaka-et-band-sur-la-grande-scene/
END:VEVENT
END:VCALENDAR