BEGIN:VCALENDAR
VERSION:2.0
PRODID:-//Fête du Vin Nouveau Cressier - ECPv6.15.19//NONSGML v1.0//EN
CALSCALE:GREGORIAN
METHOD:PUBLISH
X-WR-CALNAME:Fête du Vin Nouveau Cressier
X-ORIGINAL-URL:https://feteduvin.ch
X-WR-CALDESC:Évènements pour Fête du Vin Nouveau Cressier
REFRESH-INTERVAL;VALUE=DURATION:PT1H
X-Robots-Tag:noindex
X-PUBLISHED-TTL:PT1H
BEGIN:VTIMEZONE
TZID:UTC
BEGIN:STANDARD
TZOFFSETFROM:+0000
TZOFFSETTO:+0000
TZNAME:UTC
DTSTART:20250101T000000
END:STANDARD
END:VTIMEZONE
BEGIN:VEVENT
DTSTART;TZID=UTC:20260501T120000
DTEND;TZID=UTC:20260501T123000
DTSTAMP:20260425T154556
CREATED:20260423T131552Z
LAST-MODIFIED:20260423T131552Z
UID:2298-1777636800-1777638600@feteduvin.ch
SUMMARY:Ouverture des carrousels
DESCRIPTION:Ouverture des carrousels dans la cours de l’école !
URL:https://feteduvin.ch/event/ouverture-des-carrousels/
END:VEVENT
END:VCALENDAR