BEGIN:VCALENDAR
VERSION:2.0
PRODID:-//Fête du Vin Nouveau Cressier - ECPv6.15.19//NONSGML v1.0//EN
CALSCALE:GREGORIAN
METHOD:PUBLISH
X-WR-CALNAME:Fête du Vin Nouveau Cressier
X-ORIGINAL-URL:https://feteduvin.ch
X-WR-CALDESC:Évènements pour Fête du Vin Nouveau Cressier
REFRESH-INTERVAL;VALUE=DURATION:PT1H
X-Robots-Tag:noindex
X-PUBLISHED-TTL:PT1H
BEGIN:VTIMEZONE
TZID:UTC
BEGIN:STANDARD
TZOFFSETFROM:+0000
TZOFFSETTO:+0000
TZNAME:UTC
DTSTART:20250101T000000
END:STANDARD
END:VTIMEZONE
BEGIN:VEVENT
DTSTART;TZID=UTC:20260501T100000
DTEND;TZID=UTC:20260501T120000
DTSTAMP:20260425T141801
CREATED:20260423T131615Z
LAST-MODIFIED:20260423T131615Z
UID:2300-1777629600-1777636800@feteduvin.ch
SUMMARY:Ouverture des caves du village
DESCRIPTION:dégustation 15.- verre inclus\nDomaine Hôpital Pourtalès\nDomaine La Grillette\nJungo et Fellmann\nDomaine Grisoni\nDescombes Frères
URL:https://feteduvin.ch/event/ouverture-des-caves-du-village-3/
END:VEVENT
END:VCALENDAR